BEGIN:VCALENDAR
VERSION:2.0
PRODID:-//Eglise Colonne de Feu - ECPv6.15.20//NONSGML v1.0//EN
CALSCALE:GREGORIAN
METHOD:PUBLISH
X-WR-CALNAME:Eglise Colonne de Feu
X-ORIGINAL-URL:https://colonnedefeu.com
X-WR-CALDESC:Évènements pour Eglise Colonne de Feu
REFRESH-INTERVAL;VALUE=DURATION:PT1H
X-Robots-Tag:noindex
X-PUBLISHED-TTL:PT1H
BEGIN:VTIMEZONE
TZID:Asia/Dubai
BEGIN:STANDARD
TZOFFSETFROM:+0400
TZOFFSETTO:+0400
TZNAME:+04
DTSTART:20220101T000000
END:STANDARD
END:VTIMEZONE
BEGIN:VEVENT
DTSTART;VALUE=DATE:20230102
DTEND;VALUE=DATE:20230211
DTSTAMP:20260423T141111
CREATED:20230114T153812Z
LAST-MODIFIED:20230115T044310Z
UID:1262-1672617600-1676073599@colonnedefeu.com
SUMMARY:40 jours de jeûne et de prière
DESCRIPTION:Du lundi 2 janvier 2023 au vendredi 10 février 2023\, l’église Colonne de Feu est entré dans un temps de jeûne et prière. Il ne s’agit pas ici d’un régime pour se donner bonne conscience suite aux copieux repas de fin d’année mais plutôt une réponse effective à une direction de Dieu lui-même. Pendant 40 jours\, ceux qui se sentent invités par l’Esprit de Dieu à participer à ce temps de jeûne de prière\, prieront quatre sujets de prière principaux reçus par pasteur Prince. Tous ces sujets de prières\, les quatre points cardinaux de ce jeûne convergent vers le thème principal de ce temps fort à savoir « La consécration de l’année 2023 ». Dieu est fidèle\, il tient ses promesses et beaucoup verront aboutir en 2023 des prières de longue date\, des prophéties ou des révélations. Certains découvriront le dessein de Dieu pour leur vie\, d’autres des confirmations de leur ministère encore verront des forteresses s’effondrer dans leur vie. Mais avant tous sont appelés à devenir des serviteurs et servantes consacrés. C’est dans cette optique que beaucoup ont répondu à l’appel de Jésus-Christ à entrer dans cette période de jeûne et de prière…
URL:https://colonnedefeu.com/evenement/40-jours-de-jeune-et-de-priere/
CATEGORIES:Jeûne et prière
ATTACH;FMTTYPE=image/jpeg:https://colonnedefeu.com/wp-content/uploads/2022/11/jack-sharp-OptEsFuZwoQ-unsplash-scaled.jpg
END:VEVENT
BEGIN:VEVENT
DTSTART;TZID=Asia/Dubai:20230203T220000
DTEND;TZID=Asia/Dubai:20230203T220000
DTSTAMP:20260423T141111
CREATED:20230114T154132Z
LAST-MODIFIED:20230114T154132Z
UID:1269-1675461600-1675461600@colonnedefeu.com
SUMMARY:"Nuit de prières exaucées" tous les vendredis à 22h00 jusqu'au 10 février
DESCRIPTION:Une nuit de prière exaucées est un événement toujours très attendu et apprécié à l’église Colonne de Feu. Alors que dire quand nous avons le privilège d’en expérimenter\, près d’une dizaine d’affilée\, pendant la période de jeûne et de prière de 40 jours de l’église Colone de Feu. Une nuit de prières exaucées est un moment très particulier\, où plus que jamais\, place est laissée au Saint-Esprit pour diriger et produire par son onction des choses qui nous dépassent. Libération de dons spirituels\, guérisons des malades\, déblocage de toutes sortes de situations. Rien ne peut résister à la puissante main de Dieu et des centaines de témoignages le confirment. Le temps des miracles n’est pas à son terme\, bien au contraire\, il n’en est qu’à ses débuts. Toi aussi\, viens passer une nuit de prières exaucées à l’église Colonne de Feu. Que tu fasses partie de notre église ou pas\, tu seras toujours le bienvenu et bien reçu. L’accueil\, c’est un peu la marque de fabrique de l’église Colonne de Feu. Nous sommes là pour vous et le Saint-Esprit aussi… Bonne nuit de prières exaucées à tous.
URL:https://colonnedefeu.com/evenement/nuit-de-prieres-exaucees-tous-les-vendredis-a-22h00-jusquau-10-fevrier-3/
CATEGORIES:Prières exaucées
END:VEVENT
END:VCALENDAR