BEGIN:VCALENDAR
VERSION:2.0
PRODID:-//Eglise Colonne de Feu - ECPv6.15.20//NONSGML v1.0//EN
CALSCALE:GREGORIAN
METHOD:PUBLISH
X-ORIGINAL-URL:https://colonnedefeu.com
X-WR-CALDESC:Évènements pour Eglise Colonne de Feu
REFRESH-INTERVAL;VALUE=DURATION:PT1H
X-Robots-Tag:noindex
X-PUBLISHED-TTL:PT1H
BEGIN:VTIMEZONE
TZID:Asia/Dubai
BEGIN:STANDARD
TZOFFSETFROM:+0400
TZOFFSETTO:+0400
TZNAME:+04
DTSTART:20220101T000000
END:STANDARD
END:VTIMEZONE
BEGIN:VEVENT
DTSTART;VALUE=DATE:20230102
DTEND;VALUE=DATE:20230211
DTSTAMP:20260423T123745
CREATED:20230114T153812Z
LAST-MODIFIED:20230115T044310Z
UID:1262-1672617600-1676073599@colonnedefeu.com
SUMMARY:40 jours de jeûne et de prière
DESCRIPTION:Du lundi 2 janvier 2023 au vendredi 10 février 2023\, l’église Colonne de Feu est entré dans un temps de jeûne et prière. Il ne s’agit pas ici d’un régime pour se donner bonne conscience suite aux copieux repas de fin d’année mais plutôt une réponse effective à une direction de Dieu lui-même. Pendant 40 jours\, ceux qui se sentent invités par l’Esprit de Dieu à participer à ce temps de jeûne de prière\, prieront quatre sujets de prière principaux reçus par pasteur Prince. Tous ces sujets de prières\, les quatre points cardinaux de ce jeûne convergent vers le thème principal de ce temps fort à savoir « La consécration de l’année 2023 ». Dieu est fidèle\, il tient ses promesses et beaucoup verront aboutir en 2023 des prières de longue date\, des prophéties ou des révélations. Certains découvriront le dessein de Dieu pour leur vie\, d’autres des confirmations de leur ministère encore verront des forteresses s’effondrer dans leur vie. Mais avant tous sont appelés à devenir des serviteurs et servantes consacrés. C’est dans cette optique que beaucoup ont répondu à l’appel de Jésus-Christ à entrer dans cette période de jeûne et de prière…
URL:https://colonnedefeu.com/evenement/40-jours-de-jeune-et-de-priere/
CATEGORIES:Jeûne et prière
ATTACH;FMTTYPE=image/jpeg:https://colonnedefeu.com/wp-content/uploads/2022/11/jack-sharp-OptEsFuZwoQ-unsplash-scaled.jpg
END:VEVENT
BEGIN:VEVENT
DTSTART;VALUE=DATE:20230114
DTEND;VALUE=DATE:20230115
DTSTAMP:20260423T123745
CREATED:20230114T154311Z
LAST-MODIFIED:20230114T154311Z
UID:1273-1673654400-1673740799@colonnedefeu.com
SUMMARY:Jour de Baptêmes à l'Eglise Colonne de Feu
DESCRIPTION:Ce sera le point d’orgue de ce temps de 40 jours et de prières de l’église Colonne de Feu. Jésus nous a appris lui-même que celui qui sera baptisé sera sauvé (Marc 16 :16). Rappelons que le baptême est une décision personnelle\, personne ne peut donc y être contraint. Convaincus par l’Esprit de Dieu\, nombreux sont ceux qui franchiront le pas et participeront au même baptême que Jésus-Christ. Le baptême qu’il nous a enseigné et dont lui-même a été baptisé par Jean-Baptiste\, le baptême d’eau par immersion. Accepter publiquement Jésus-Christ comme Seigneur et Sauveur de sa vie et se laisser totalement immerger dans les eaux du baptême est le choix le plus important qu’un chrétien puisse prendre dans sa vie et pour sa vie. Ainsi le Saint-Esprit vient s’installer\, Jésus-Christ ouvre les portes du salut et c’est alors que le nouveau baptisé expérimente la « Nouvelle Naissance ». Il n’est pas trop tard. Toi aussi qui lis ces lignes\, peut-être te sens-tu\, à ce moment précis\, appelé au « vrai » baptême. Alors\, ne résiste pas\, c’est Dieu qui t’appelle. Fais-lui confiance tout simplement et toi aussi\, viens découvrir la vérité dont parle la parole de Dieu (Jean 8 :32 dans la Bible) et marcher en nouveauté de vie…
URL:https://colonnedefeu.com/evenement/jour-de-baptemes-a-leglise-colonne-de-feu/
CATEGORIES:Baptêmes
END:VEVENT
BEGIN:VEVENT
DTSTART;TZID=Asia/Dubai:20230115T080000
DTEND;TZID=Asia/Dubai:20230115T100000
DTSTAMP:20260423T123745
CREATED:20230114T143830Z
LAST-MODIFIED:20230114T145448Z
UID:1195-1673769600-1673776800@colonnedefeu.com
SUMMARY:Célébration 1 du 15 janvier 2023 à 10h00 avec pasteurs Mimose et Stéphane
DESCRIPTION:Ce dimanche 15 janvier 2023\, ne ratez pas ce rendez-vous avec les pasteurs Mimose et Stéphane de l’église Flamme de Feu (de l’Eglise Colonne de Feu) à Nosy Faly sur l’île de Madagascar. Si\, dorénavant\, l’église Flamme de Feu a trouvé son rythme de croisière\, la traversée pour y arriver\, n’a pas été un long fleuve tranquille. Beaucoup d’oppositions mais toujours le même résultat à la fin : la victoire. De même qu’ils n’ont pas combattu seuls pour démarrer l’œuvre sur la grande île\, de même serez-vous encouragés et transformés en découvrant que celui qui les a aidés à déjouer les pièges de l’ennemi est aussi à vos côtés…
URL:https://colonnedefeu.com/evenement/celebration-1-du-15-janvier-2023-a-10h00-avec-pasteurs-mimose-et-stephane/
CATEGORIES:Célébration
ATTACH;FMTTYPE=image/jpeg:https://colonnedefeu.com/wp-content/uploads/2023/01/WhatsApp-Image-2023-01-11-at-12.54.39.jpeg
END:VEVENT
BEGIN:VEVENT
DTSTART;TZID=Asia/Dubai:20230115T100000
DTEND;TZID=Asia/Dubai:20230115T120000
DTSTAMP:20260423T123745
CREATED:20230114T144026Z
LAST-MODIFIED:20230114T145134Z
UID:1201-1673776800-1673784000@colonnedefeu.com
SUMMARY:Célébration 2 du 15 janvier 2023 à 10h00 avec pasteurs Mimose et Stéphane
DESCRIPTION:Lorsque que les apôtres ont été envoyés par Jésus-Christ\, ils se sont appuyés sur la Parole de Dieu et sa puissance. Ainsi les signes\, les prodiges et les miracles se sont multipliés et ont accompagné leur pas et confirmé la Parole de Dieu. C’est aussi cela qu’expérimentent pasteurs Mimose et Stéphane dans leur ministère à Nosy Faly. « Impossible »\, « infaisable » ou encore « délirant » peuvent être des qualificatifs qui viendraient mentir à l’intelligence de beaucoup. Qu’à cela ne tienne\, laissons-nous convaincre par le Saint-Esprit\, lors de cette célébration\, en découvrant les témoignages édifiants que vont nous délivrer pasteurs Mimose et Stéphane…
URL:https://colonnedefeu.com/evenement/celebration-2-du-15-janvier-2023-a-10h00-avec-pasteurs-mimose-et-stephane/
CATEGORIES:Célébration
ATTACH;FMTTYPE=image/jpeg:https://colonnedefeu.com/wp-content/uploads/2023/01/WhatsApp-Image-2023-01-11-at-12.54.39-1.jpeg
END:VEVENT
BEGIN:VEVENT
DTSTART;TZID=Asia/Dubai:20230116T050000
DTEND;TZID=Asia/Dubai:20230116T060000
DTSTAMP:20260423T123745
CREATED:20230114T152440Z
LAST-MODIFIED:20230115T044545Z
UID:1246-1673845200-1673848800@colonnedefeu.com
SUMMARY:Prière matinale du lundi 16 janvier 2023 à 5h00
DESCRIPTION:
URL:https://colonnedefeu.com/evenement/priere-matinale-du-lundi-16-janvier-2023-a-5h00/
CATEGORIES:Prière matinale
ATTACH;FMTTYPE=image/jpeg:https://colonnedefeu.com/wp-content/uploads/2023/01/Priere-matinale-1.jpeg
END:VEVENT
BEGIN:VEVENT
DTSTART;TZID=Asia/Dubai:20230117T050000
DTEND;TZID=Asia/Dubai:20230117T060000
DTSTAMP:20260423T123745
CREATED:20230114T152608Z
LAST-MODIFIED:20230115T044604Z
UID:1248-1673931600-1673935200@colonnedefeu.com
SUMMARY:Prière matinale du mardi 17 janvier 2023 à 5h00
DESCRIPTION:
URL:https://colonnedefeu.com/evenement/priere-matinale-du-mardi-17-janvier-2023-a-5h00/
END:VEVENT
BEGIN:VEVENT
DTSTART;TZID=Asia/Dubai:20230117T183000
DTEND;TZID=Asia/Dubai:20230117T183000
DTSTAMP:20260423T123745
CREATED:20230114T145845Z
LAST-MODIFIED:20230115T044834Z
UID:1215-1673980200-1673980200@colonnedefeu.com
SUMMARY:Maisons Agapeo Discipolat du mardi 17 janvier 2023 à 18h30
DESCRIPTION:Les « Maisons Agapéo Discipolat » sont un signe manifeste de l’entrée dans le temps du réveil\, de ce temps où l’on ne peut plus enfermer le Saint-Esprit et son influence dans une boite.\nLe temps des « Maisons Agapéo Discipolat »\, c’est aussi un esprit de Koinonia (communion fraternelle)\, des moments joyeux chez des familles qui acceptent d’ouvrir avec grand plaisir les portes de leur maison. Maisons qui\, le temps d’un instant\, deviennent des ambassadrices de l’Eglise et de la Famille Colonne de Feu.\nAu programme et sous la conduite des rabbounis : louange et adoration\, prédication\, exhortation\, temps de prière… et l’incontournable moment de Sainte-Cène.
URL:https://colonnedefeu.com/evenement/maisons-agapeo-discipolat-du-mardi-17-janvier-2023-a-18h30/
CATEGORIES:Maisons Agapéo Discipolat
ATTACH;FMTTYPE=image/jpeg:https://colonnedefeu.com/wp-content/uploads/2023/01/17187A9738v2-scaled.jpg
END:VEVENT
BEGIN:VEVENT
DTSTART;TZID=Asia/Dubai:20230118T050000
DTEND;TZID=Asia/Dubai:20230118T060000
DTSTAMP:20260423T123745
CREATED:20230114T152635Z
LAST-MODIFIED:20230115T044642Z
UID:1251-1674018000-1674021600@colonnedefeu.com
SUMMARY:Prière matinale du mercredi 18 janvier 2023 à 5h00
DESCRIPTION:
URL:https://colonnedefeu.com/evenement/priere-matinale-du-mercredi-18-janvier-2023-a-5h00/
CATEGORIES:Prière matinale
ATTACH;FMTTYPE=image/jpeg:https://colonnedefeu.com/wp-content/uploads/2023/01/Priere-matinale-1.jpeg
END:VEVENT
BEGIN:VEVENT
DTSTART;TZID=Asia/Dubai:20230119T050000
DTEND;TZID=Asia/Dubai:20230119T060000
DTSTAMP:20260423T123745
CREATED:20230114T152748Z
LAST-MODIFIED:20230115T044701Z
UID:1253-1674104400-1674108000@colonnedefeu.com
SUMMARY:Prière matinale du jeudi 19 janvier 2023 à 5h00
DESCRIPTION:
URL:https://colonnedefeu.com/evenement/priere-matinale-du-jeudi-19-janvier-2023-a-5h00/
CATEGORIES:Prière matinale
ATTACH;FMTTYPE=image/jpeg:https://colonnedefeu.com/wp-content/uploads/2023/01/Priere-matinale-2.jpeg
END:VEVENT
BEGIN:VEVENT
DTSTART;TZID=Asia/Dubai:20230120T050000
DTEND;TZID=Asia/Dubai:20230120T060000
DTSTAMP:20260423T123745
CREATED:20230114T153045Z
LAST-MODIFIED:20230115T044742Z
UID:1256-1674190800-1674194400@colonnedefeu.com
SUMMARY:Prière matinale du vendredi 20 janvier 2023 à 5h00
DESCRIPTION:
URL:https://colonnedefeu.com/evenement/priere-matinale-du-vendredi-20-janvier-2023-a-5h00/
CATEGORIES:Prière matinale
ATTACH;FMTTYPE=image/jpeg:https://colonnedefeu.com/wp-content/uploads/2023/01/Priere-matinale-2.jpeg
END:VEVENT
BEGIN:VEVENT
DTSTART;TZID=Asia/Dubai:20230120T183000
DTEND;TZID=Asia/Dubai:20230120T183000
DTSTAMP:20260423T123745
CREATED:20230114T150003Z
LAST-MODIFIED:20230115T044808Z
UID:1217-1674239400-1674239400@colonnedefeu.com
SUMMARY:Gospel Workshop du vendredi 20 janvier 2023 à 18h30
DESCRIPTION:
URL:https://colonnedefeu.com/evenement/gospel-workshop-du-vendredi-20-janvier-2023-a-18h30/
CATEGORIES:Gospel Workshop
ATTACH;FMTTYPE=image/jpeg:https://colonnedefeu.com/wp-content/uploads/2023/01/IMG_5062.jpg
END:VEVENT
BEGIN:VEVENT
DTSTART;TZID=Asia/Dubai:20230120T220000
DTEND;TZID=Asia/Dubai:20230120T220000
DTSTAMP:20260423T123745
CREATED:20230114T153946Z
LAST-MODIFIED:20230115T044851Z
UID:1264-1674252000-1674252000@colonnedefeu.com
SUMMARY:"Nuit de prières exaucées" tous les vendredis à 22h00 jusqu'au 10 février
DESCRIPTION:Une nuit de prière exaucées est un événement toujours très attendu et apprécié à l’église Colonne de Feu. Alors que dire quand nous avons le privilège d’en expérimenter\, près d’une dizaine d’affilée\, pendant la période de jeûne et de prière de 40 jours de l’église Colone de Feu. Une nuit de prières exaucées est un moment très particulier\, où plus que jamais\, place est laissée au Saint-Esprit pour diriger et produire par son onction des choses qui nous dépassent. Libération de dons spirituels\, guérisons des malades\, déblocage de toutes sortes de situations. Rien ne peut résister à la puissante main de Dieu et des centaines de témoignages le confirment. Le temps des miracles n’est pas à son terme\, bien au contraire\, il n’en est qu’à ses débuts. Toi aussi\, viens passer une nuit de prières exaucées à l’église Colonne de Feu. Que tu fasses partie de notre église ou pas\, tu seras toujours le bienvenu et bien reçu. L’accueil\, c’est un peu la marque de fabrique de l’église Colonne de Feu. Nous sommes là pour vous et le Saint-Esprit aussi… Bonne nuit de prières exaucées à tous.
URL:https://colonnedefeu.com/evenement/nuit-de-prieres-exaucees-tous-les-vendredis-a-22h00-jusquau-10-fevrier/
CATEGORIES:Prières exaucées
ATTACH;FMTTYPE=image/jpeg:https://colonnedefeu.com/wp-content/uploads/2023/01/patrick-fore-b_SHPU5M3nk-unsplash-1.jpg
END:VEVENT
BEGIN:VEVENT
DTSTART;TZID=Asia/Dubai:20230121T090000
DTEND;TZID=Asia/Dubai:20230121T110000
DTSTAMP:20260423T123745
CREATED:20230114T150132Z
LAST-MODIFIED:20230115T044948Z
UID:1221-1674291600-1674298800@colonnedefeu.com
SUMMARY:Kid's Church du samedi 21 janvier 2023 à 9h00
DESCRIPTION:
URL:https://colonnedefeu.com/evenement/kids-church-du-samedi-21-janvier-2023-a-9h00/
CATEGORIES:Kid's Church
ATTACH;FMTTYPE=image/jpeg:https://colonnedefeu.com/wp-content/uploads/2023/01/Enfants-1.jpeg
END:VEVENT
BEGIN:VEVENT
DTSTART;TZID=Asia/Dubai:20230127T220000
DTEND;TZID=Asia/Dubai:20230127T220000
DTSTAMP:20260423T123745
CREATED:20230114T154036Z
LAST-MODIFIED:20230114T154044Z
UID:1266-1674856800-1674856800@colonnedefeu.com
SUMMARY:"Nuit de prières exaucées" tous les vendredis à 22h00 jusqu'au 10 février
DESCRIPTION:Une nuit de prière exaucées est un événement toujours très attendu et apprécié à l’église Colonne de Feu. Alors que dire quand nous avons le privilège d’en expérimenter\, près d’une dizaine d’affilée\, pendant la période de jeûne et de prière de 40 jours de l’église Colone de Feu. Une nuit de prières exaucées est un moment très particulier\, où plus que jamais\, place est laissée au Saint-Esprit pour diriger et produire par son onction des choses qui nous dépassent. Libération de dons spirituels\, guérisons des malades\, déblocage de toutes sortes de situations. Rien ne peut résister à la puissante main de Dieu et des centaines de témoignages le confirment. Le temps des miracles n’est pas à son terme\, bien au contraire\, il n’en est qu’à ses débuts. Toi aussi\, viens passer une nuit de prières exaucées à l’église Colonne de Feu. Que tu fasses partie de notre église ou pas\, tu seras toujours le bienvenu et bien reçu. L’accueil\, c’est un peu la marque de fabrique de l’église Colonne de Feu. Nous sommes là pour vous et le Saint-Esprit aussi… Bonne nuit de prières exaucées à tous.
URL:https://colonnedefeu.com/evenement/nuit-de-prieres-exaucees-tous-les-vendredis-a-22h00-jusquau-10-fevrier-2/
CATEGORIES:Prières exaucées
END:VEVENT
BEGIN:VEVENT
DTSTART;TZID=Asia/Dubai:20230129T080000
DTEND;TZID=Asia/Dubai:20230129T100000
DTSTAMP:20260423T123745
CREATED:20230114T144548Z
LAST-MODIFIED:20230114T145225Z
UID:1205-1674979200-1674986400@colonnedefeu.com
SUMMARY:Célébration 1 du 29 janvier 2023 à 8h00 avec Claude et Julia PAYAN
DESCRIPTION:Claude et Julia PAYAN vont encore nous transporter et nous aider à nous connecter au trône de Dieu à travers leurs plus beaux hymnes\, leur joie et leur authenticité. Aussi\, nous allons découvrir la profondeur du message que l’Esprit de Dieu leur a confié à destination de son Eglise. Célébrer Jésus\, l’adorer ou le louer prend encore une autre dimension avec ses serviteurs Claude et Julia. C’est aussi une dose supplémentaire de l’onction d’adorateur que Dieu déversera sur les fidèles\, avec abondance\, pendant le passage des bien-aimés Claude et Julia PAYAN. Notre Père cherche ceux dont le cœur est entièrement tourné vers lui et qui l’adorent en Esprit et en vérité. A n’en point douter\, au contact de Claude et Julia PAYAN et sous l’inspiration du Saint-Esprit\, nous approchons du but…
URL:https://colonnedefeu.com/evenement/celebration-1-du-29-janvier-2023-a-8h00-avec-claude-et-julia-payan/
CATEGORIES:Célébration
ATTACH;FMTTYPE=image/jpeg:https://colonnedefeu.com/wp-content/uploads/2023/01/WhatsApp-Image-2023-01-11-at-12.54.41.jpeg
END:VEVENT
BEGIN:VEVENT
DTSTART;TZID=Asia/Dubai:20230129T100000
DTEND;TZID=Asia/Dubai:20230129T120000
DTSTAMP:20260423T123745
CREATED:20230114T144914Z
LAST-MODIFIED:20230114T145332Z
UID:1207-1674986400-1674993600@colonnedefeu.com
SUMMARY:Célébration 2 du 29 janvier 2023 à 10h00 avec Claude et Julia PAYAN
DESCRIPTION:
URL:https://colonnedefeu.com/evenement/celebration-2-du-29-janvier-2023-a-10h00-avec-claude-et-julia-payan/
CATEGORIES:Célébration
END:VEVENT
END:VCALENDAR